BEGIN:VCALENDAR
VERSION:2.0
PRODID:-//Institut du Christ Roi Souverain Prêtre - Église Saint-Patrice - Rouen - ECPv4.9.12//NONSGML v1.0//EN
CALSCALE:GREGORIAN
METHOD:PUBLISH
X-WR-CALNAME:Institut du Christ Roi Souverain Prêtre - Église Saint-Patrice - Rouen
X-ORIGINAL-URL:https://icrsp-rouen.com
X-WR-CALDESC:Évènements pour Institut du Christ Roi Souverain Prêtre - Église Saint-Patrice - Rouen
BEGIN:VTIMEZONE
TZID:Europe/Paris
BEGIN:DAYLIGHT
TZOFFSETFROM:+0100
TZOFFSETTO:+0200
TZNAME:CEST
DTSTART:20200329T010000
END:DAYLIGHT
BEGIN:STANDARD
TZOFFSETFROM:+0200
TZOFFSETTO:+0100
TZNAME:CET
DTSTART:20201025T010000
END:STANDARD
END:VTIMEZONE
BEGIN:VEVENT
DTSTART;VALUE=DATE:20200123
DTEND;VALUE=DATE:20200124
DTSTAMP:20260419T155729
CREATED:20200116T162359Z
LAST-MODIFIED:20200116T162359Z
UID:2158-1579737600-1579823999@icrsp-rouen.com
SUMMARY:Saint Raymond de Pegnafort\, confesseur
DESCRIPTION:
URL:https://icrsp-rouen.com/event/saint-raymond-de-pegnafort-confesseur/
CATEGORIES:Messe
END:VEVENT
BEGIN:VEVENT
DTSTART;TZID=Europe/Paris:20200123T183000
DTEND;TZID=Europe/Paris:20200123T183000
DTSTAMP:20260419T155729
CREATED:20200116T162436Z
LAST-MODIFIED:20200116T162436Z
UID:2160-1579804200-1579804200@icrsp-rouen.com
SUMMARY:Messe
DESCRIPTION:
URL:https://icrsp-rouen.com/event/messe-53/
CATEGORIES:Messe
END:VEVENT
END:VCALENDAR